BEGIN:VCALENDAR
VERSION:2.0
PRODID:-//ChamberMaster//Event Calendar 2.0//EN
METHOD:PUBLISH
X-PUBLISHED-TTL:P3D
REFRESH-INTERVAL:P3D
CALSCALE:GREGORIAN
BEGIN:VEVENT
DTSTART;VALUE=DATE:20211227
DTEND;VALUE=DATE:20220101
TRANSP:TRANSPARENT
X-MICROSOFT-CDO-ALLDAYEVENT:TRUE
SUMMARY:Carp Fest
DESCRIPTION:Carp Fest\, Week-long family related activities including illuminated sledding hill\, torchlight ski/hike\, skating party\, bowling\, snow bowl football\, ice fishing\, Hoffman Hall Dollar Days\, and more. For a list of activities contact the City Park & Rec.\, Prairie du Chien\, WI.
X-ALT-DESC;FMTTYPE=text/html:Carp Fest\, Week-long family related activities including illuminated sledding hill\, torchlight ski/hike\, skating party\, bowling\, snow bowl football\, ice fishing\, Hoffman Hall Dollar Days\, and more. For a list of activities contact the City Park &amp\; Rec.\, Prairie du Chien\, WI.&nbsp\;&nbsp\;<br />\n
LOCATION:
UID:e.1604.9110
SEQUENCE:3
DTSTAMP:20260422T185119Z
URL:https://business.prairieduchien.org/events/details/carp-fest-9110
END:VEVENT

END:VCALENDAR
