BEGIN:VCALENDAR
VERSION:2.0
PRODID:-//ChamberMaster//Event Calendar 2.0//EN
METHOD:PUBLISH
X-PUBLISHED-TTL:P3D
REFRESH-INTERVAL:P3D
CALSCALE:GREGORIAN
BEGIN:VEVENT
DTSTART:20231014T133000Z
DTEND:20231014T180000Z
X-MICROSOFT-CDO-ALLDAYEVENT:FALSE
SUMMARY:Breakfast in a Victorian Kitchen
DESCRIPTION:Hands-on cooking workshop for adults. Participants take a culinary tour of the late 19th century though the preparations and consumption of a Victorian breakfast   using the foods\, utensils and technology of the time. Family style breakfast served followed by tour of the estate\, 8:30 am-1 pm\, For more information visit www.villalouis.org or call Villa Louis at 608-326-2721. For ticketing questions please contact the Wisconsin Historical Society Box Office at 608-264-4848 or boxoffice@wisconsinhistory.org.
X-ALT-DESC;FMTTYPE=text/html:<span style="font-family:calibri\,sans-serif\;">Hands-on cooking workshop for adults. Participants take a culinary tour of the late 19<sup>th</sup> century though the preparations and consumption of a Victorian breakfast &ndash\; using the foods\, utensils and technology of the time. Family style breakfast served followed by tour of the estate\, 8:30 am-1 pm\, For more information visit </span><a href="http://www.villalouis.org/"><span style="color:windowtext\;"><span style="font-family:calibri\,sans-serif\;">www.villalouis.org</span></span></a><span style="font-family:calibri\,sans-serif\;"> or call Villa Louis at 608-326-2721. For ticketing questions <span style="background:white\;">please contact the Wisconsin Historical Society Box Office at 608-264-4848 or <a href="mailto:boxoffice@wisconsinhistory.org">boxoffice@wisconsinhistory.org</a>.</span></span>
LOCATION:Villa Louis Historic Site 521 N Villa Louis Road Prairie du Chien\, WI
UID:e.1604.10295
SEQUENCE:3
DTSTAMP:20260422T105146Z
URL:https://business.prairieduchien.org/events/details/breakfast-in-a-victorian-kitchen-10295
END:VEVENT

END:VCALENDAR
