BEGIN:VCALENDAR
VERSION:2.0
PRODID:-//ChamberMaster//Event Calendar 2.0//EN
METHOD:PUBLISH
X-PUBLISHED-TTL:P3D
REFRESH-INTERVAL:P3D
CALSCALE:GREGORIAN
BEGIN:VEVENT
DTSTART:20220102T170000Z
DTEND:20220102T220000Z
X-MICROSOFT-CDO-ALLDAYEVENT:FALSE
SUMMARY:Bonne Annee
DESCRIPTION:Bonne Ann e.  11:00am-4:00 pm. Celebrate the French-Canadian \n\nNew Year's traditions of visiting\, music\, food\, and gifts for children.  \n\nSt Germain dit Gauthier House\, St. Feriole Island Park. Bring a gift for \n\nanother.
X-ALT-DESC;FMTTYPE=text/html:Bonne Ann&eacute\;e.&nbsp\; 11:00am-4:00 pm. Celebrate the French-Canadian&nbsp\;<br />\nNew Year&rsquo\;s traditions of visiting\, music\, food\, and gifts for children.&nbsp\;&nbsp\;<br />\nSt Germain dit Gauthier House\, St. Feriole Island Park. Bring a gift for&nbsp\;<br />\nanother.
LOCATION:St. Germain dit Gauthier House\, 419 Fifth Street\, St. Feriole Island Park Prairie du Chien
UID:e.1604.8858
SEQUENCE:3
DTSTAMP:20260422T205639Z
URL:https://business.prairieduchien.org/events/details/bonne-annee-8858
END:VEVENT

END:VCALENDAR
