BEGIN:VCALENDAR
VERSION:2.0
PRODID:-//ChamberMaster//Event Calendar 2.0//EN
METHOD:PUBLISH
X-PUBLISHED-TTL:P3D
REFRESH-INTERVAL:P3D
CALSCALE:GREGORIAN
BEGIN:VEVENT
DTSTART;VALUE=DATE:20220225
DTEND;VALUE=DATE:20220227
TRANSP:TRANSPARENT
X-MICROSOFT-CDO-ALLDAYEVENT:TRUE
SUMMARY:Bald Eagle Appreciation Days
DESCRIPTION:Live Bald Eagle and raptor program\, exhibits\, birding experts on hand\, outdoor viewing of Bald Eagles through spotting scopes\, life-sized Bald Eagle nest\, activities for children\, Friday evening programs at local hotels. Saturday programs un 9 am-3 pm and are held at Hoffman Hall\, Prairie du Chien. For details on the event call 800-732-1673 or visit prairieduchien.org The event is co-sponsored by Effigy Mounds National Monument and the Prairie du Chien Tourism Council.
X-ALT-DESC;FMTTYPE=text/html:<span style="color:windowtext\;"><span style="font-family:arial\,sans-serif\;">Live Bald Eagle and raptor program\, exhibits\, birding experts on hand\, outdoor viewing of Bald Eagles through spotting scopes\, life-sized Bald Eagle nest\, activities for children\, Friday evening programs at local hotels. Saturday programs un 9 am-3 pm and are held at Hoffman Hall\, Prairie du Chien. For details on the event call 800-732-1673 or visit prairieduchien.org The event is co-sponsored by Effigy Mounds National Monument and the Prairie du Chien Tourism Council.</span></span>
LOCATION:
UID:e.1604.9537
SEQUENCE:3
DTSTAMP:20260422T205643Z
URL:https://business.prairieduchien.org/events/details/bald-eagle-appreciation-days-9537
END:VEVENT

END:VCALENDAR
