BEGIN:VCALENDAR
VERSION:2.0
PRODID:-//ChamberMaster//Event Calendar 2.0//EN
METHOD:PUBLISH
X-PUBLISHED-TTL:P3D
REFRESH-INTERVAL:P3D
CALSCALE:GREGORIAN
BEGIN:VEVENT
DTSTART:20240224T000000Z
DTEND:20240224T210000Z
X-MICROSOFT-CDO-ALLDAYEVENT:FALSE
SUMMARY:Bald Eagle Appreciation Days
DESCRIPTION:Live Bald Eagle and raptor programs\, exhibits\, birding experts on hand\, outdoor viewing of Bald Eagles through spotting scopes\, activities for children. Friday evening programs at local hotels. Saturday programs run 9 a.m.- 3 p.m. and held at Hoffman Hall in Prairie du Chien.
X-ALT-DESC;FMTTYPE=text/html:Live Bald Eagle and raptor programs\, exhibits\, birding experts on hand\, outdoor viewing of Bald Eagles through spotting scopes\, activities for children. Friday evening programs at local hotels. Saturday programs run 9 a.m.- 3 p.m. and held at Hoffman Hall in Prairie du Chien.&nbsp\;
LOCATION:Various viewing areas around Prairie du Chien\, Saturday event with live birds at Hoffman Hall.
UID:e.1604.10411
SEQUENCE:3
DTSTAMP:20260422T153911Z
URL:https://business.prairieduchien.org/events/details/bald-eagle-appreciation-days-10411
END:VEVENT

END:VCALENDAR
