BEGIN:VCALENDAR
VERSION:2.0
PRODID:-//ChamberMaster//Event Calendar 2.0//EN
METHOD:PUBLISH
X-PUBLISHED-TTL:P3D
REFRESH-INTERVAL:P3D
CALSCALE:GREGORIAN
BEGIN:VEVENT
DTSTART:20240224T150000Z
DTEND:20240224T220000Z
X-MICROSOFT-CDO-ALLDAYEVENT:FALSE
SUMMARY:Bald Eagle Appreciation Day - Fort Crawford
DESCRIPTION:The Fort Crawford Museum will be open from 9 a.m. - 4 p.m.
X-ALT-DESC;FMTTYPE=text/html:The Fort Crawford Museum will be open from 9 a.m. - 4 p.m.
LOCATION:717 S. Beaumont Rd\, Prairie du Chien\, WI 53821
UID:e.1604.10413
SEQUENCE:3
DTSTAMP:20260422T154045Z
URL:https://business.prairieduchien.org/events/details/bald-eagle-appreciation-day-fort-crawford-10413
END:VEVENT

END:VCALENDAR
