BEGIN:VCALENDAR
VERSION:2.0
PRODID:-//ChamberMaster//Event Calendar 2.0//EN
METHOD:PUBLISH
X-PUBLISHED-TTL:P3D
REFRESH-INTERVAL:P3D
CALSCALE:GREGORIAN
BEGIN:VEVENT
DTSTART:20220625T190000Z
DTEND:20220625T230000Z
X-MICROSOFT-CDO-ALLDAYEVENT:FALSE
SUMMARY:Annual Lazy River Beer & Wine Festival
DESCRIPTION:A premier wine & beer tasting event featuring handcrafted wine from Iowa wineries and handcrafted beer from breweries\, food vendors\, live music throughout the day. Marquette riverfront\, 2 pm   6 pm. Must be 21 to attend. For tickets call 800-896-0910.
X-ALT-DESC;FMTTYPE=text/html:<span style="color:windowtext\;"><span style="font-family:arial\,sans-serif\;">A premier wine &amp\; beer tasting event featuring handcrafted wine from Iowa wineries and handcrafted beer from breweries\, food vendors\, live music throughout the day. Marquette riverfront\, 2 pm &ndash\; 6 pm. Must be 21 to attend. For tickets call 800-896-0910.</span></span>
LOCATION:
UID:e.1604.10014
SEQUENCE:3
DTSTAMP:20260424T022941Z
URL:https://business.prairieduchien.org/events/details/annual-lazy-river-beer-wine-festival-10014
END:VEVENT

END:VCALENDAR
